BEGIN:VCALENDAR
VERSION:2.0
PRODID:-//Eventin//Event Calendar//EN
CALSCALE:GREGORIAN
METHOD:PUBLISH
BEGIN:VEVENT
UID:4e7050d1d2dcadccbeb4ec029b4bd5fa@proteus-projekt.de
SUMMARY:Personenbaukasten
DESCRIPTION:Wir nehmen unsere Ergebnisse aus dem April als Bausatz und bau
 en uns daraus Szenarien. Wie können typische "Fälle" von Missverständnis
  zwischen Hochbegabten und der restlichen Belegschaft im Unternehmen ausseh
 en? Welche Geschichten könnten dahinter stehen? Und vor allem: Was kann di
 esen Personen und Teams helfen?\nIm Mai entwickeln wir beispielhafte Fälle
  von Hochbegabung im Unternehmen\, die uns erlauben\, zielgerichtete Beratu
 ngskonzepte zu erstellen. 
LOCATION:Online
DTSTAMP:20260423T143017Z
DTSTART:20260510T173000Z
DTEND:20260510T190000Z
END:VEVENT
END:VCALENDAR
